Workbook
Name dummy: tabela!$N$3:$AW$18
Name fav: terminarz!$S$2
Name teams: tabela!$N$3:$N$18

Sheet terminarz
S1: Ostatnie 10 kolejek | T1: =MAX(tabela!D3:D18) -> 4 | U1: =T1-1 -> 3 | V1: =U1-1 -> 2 | W1: =V1-1 -> 1 | X1: =W1-1 -> 0 | Y1: =X1-1 -> -1 | Z1: =Y1-1 -> -2 | AA1: =Z1-1 -> -3 | AB1: =AA1-1 -> -4 | AC1: =AB1-1 -> -5
B2: Kolejka | C2: Data | D2: Gospodarze | E2: Goście | F2: Wynik | H2: gol1 | I2: mecz | J2: razem | K2: P1 | L2: P2 | M2: T1 | N2: T2 | O2: kum FAV | P2: FAV 1/0 | Q2: FAV punkty | R2: wybierz drużynę >>> | S2: GÓRNIK ZABRZE | T2: =SUMIFS($Q:$Q,$B:$B,T$1,$P:$P,1) -> 3 | U2: =SUMIFS($Q:$Q,$B:$B,U$1,$P:$P,1) -> 3 | V2: =SUMIFS($Q:$Q,$B:$B,V$1,$P:$P,1) -> 3 | W2: =SUMIFS($Q:$Q,$B:$B,W$1,$P:$P,1) -> 3 | X2: =SUMIFS($Q:$Q,$B:$B,X$1,$P:$P,1) -> 0 | Y2: =SUMIFS($Q:$Q,$B:$B,Y$1,$P:$P,1) -> 0 | Z2: =SUMIFS($Q:$Q,$B:$B,Z$1,$P:$P,1) -> 0 | AA2: =SUMIFS($Q:$Q,$B:$B,AA$1,$P:$P,1) -> 0 | ... AC2: =SUMIFS($Q:$Q,$B:$B,AC$1,$P:$P,1) -> 0
B3: 1 | C3: 44064 | D3: ZAGŁĘBIE LUBIN | E3: LECH POZNAŃ | F3: 2 | G3: 1 | H3: =F3 -> 2 | I3: =D3&E3 -> ZAGŁĘBIE LUBINLECH POZNAŃ | J3: =F3&" : "&G3 -> 2 : 1 | K3: =IF(AND(G3<>"",F3<>"",F3>G3),3,IF(AND(G3<>"",F3<>"",F3=G3),1,0)) -> 3 | L3: =IF(AND(G3<>"",F3<>"",F3<G3),3,IF(AND(F3<>"",G3<>"",F3=G3),1,0)) -> 0 | O3: =COUNTIF($I$3:I3,"*"&fav&"*") -> 0 | P3: =COUNTIF(I3,"*"&fav&"*") -> 0 | Q3: =IF(RIGHT(I3,LEN($S$2))=$S$2,L3,IF(LEFT(I3,LEN($S$2))=$S$2,K3,0)) -> 0
B4: 1 | C4: 44065 | D4: CRACOVIA | E4: POGOŃ SZCZECIN | F4: 2 | G4: 1 | H4: =F4 -> 2 | I4: =D4&E4 -> CRACOVIAPOGOŃ SZCZECIN | J4: =F4&" : "&G4 -> 2 : 1 | K4: =IF(AND(G4<>"",F4<>"",F4>G4),3,IF(AND(G4<>"",F4<>"",F4=G4),1,0)) -> 3 | L4: =IF(AND(G4<>"",F4<>"",F4<G4),3,IF(AND(F4<>"",G4<>"",F4=G4),1,0)) -> 0 | O4: =COUNTIF($I$3:I4,"*"&fav&"*") -> 0 | P4: =COUNTIF(I4,"*"&fav&"*") -> 0 | Q4: =IF(RIGHT(I4,LEN($S$2))=$S$2,L4,IF(LEFT(I4,LEN($S$2))=$S$2,K4,0)) -> 0
B5: 1 | C5: 44065 | D5: ŚLĄSK WROCŁAW | E5: PIAST GLIWICE | F5: 2 | G5: 0 | H5: =F5 -> 2 | I5: =D5&E5 -> ŚLĄSK WROCŁAWPIAST GLIWICE | J5: =F5&" : "&G5 -> 2 : 0 | K5: =IF(AND(G5<>"",F5<>"",F5>G5),3,IF(AND(G5<>"",F5<>"",F5=G5),1,0)) -> 3 | L5: =IF(AND(G5<>"",F5<>"",F5<G5),3,IF(AND(F5<>"",G5<>"",F5=G5),1,0)) -> 0 | O5: =COUNTIF($I$3:I5,"*"&fav&"*") -> 0 | P5: =COUNTIF(I5,"*"&fav&"*") -> 0 | Q5: =IF(RIGHT(I5,LEN($S$2))=$S$2,L5,IF(LEFT(I5,LEN($S$2))=$S$2,K5,0)) -> 0
B6: 1 | C6: 44065 | D6: RAKÓW CZĘSTOCHOWA | E6: LEGIA WARSZAWA | F6: 1 | G6: 2 | H6: =F6 -> 1 | I6: =D6&E6 -> RAKÓW CZĘSTOCHOWALEGIA WARSZAWA | J6: =F6&" : "&G6 -> 1 : 2 | K6: =IF(AND(G6<>"",F6<>"",F6>G6),3,IF(AND(G6<>"",F6<>"",F6=G6),1,0)) -> 0 | L6: =IF(AND(G6<>"",F6<>"",F6<G6),3,IF(AND(F6<>"",G6<>"",F6=G6),1,0)) -> 3 | O6: =COUNTIF($I$3:I6,"*"&fav&"*") -> 0 | P6: =COUNTIF(I6,"*"&fav&"*") -> 0 | Q6: =IF(RIGHT(I6,LEN($S$2))=$S$2,L6,IF(LEFT(I6,LEN($S$2))=$S$2,K6,0)) -> 0
B7: 1 | C7: 44066 | D7: WISŁA PŁOCK | E7: STAL MIELEC | F7: 1 | G7: 1 | H7: =F7 -> 1 | I7: =D7&E7 -> WISŁA PŁOCKSTAL MIELEC | J7: =F7&" : "&G7 -> 1 : 1 | K7: =IF(AND(G7<>"",F7<>"",F7>G7),3,IF(AND(G7<>"",F7<>"",F7=G7),1,0)) -> 1 | L7: =IF(AND(G7<>"",F7<>"",F7<G7),3,IF(AND(F7<>"",G7<>"",F7=G7),1,0)) -> 1 | O7: =COUNTIF($I$3:I7,"*"&fav&"*") -> 0 | P7: =COUNTIF(I7,"*"&fav&"*") -> 0 | Q7: =IF(RIGHT(I7,LEN($S$2))=$S$2,L7,IF(LEFT(I7,LEN($S$2))=$S$2,K7,0)) -> 0
B8: 1 | C8: 44066 | D8: WARTA POZNAŃ | E8: LECHIA GDAŃSK | F8: 0 | G8: 1 | H8: =F8 -> 0 | I8: =D8&E8 -> WARTA POZNAŃLECHIA GDAŃSK | J8: =F8&" : "&G8 -> 0 : 1 | K8: =IF(AND(G8<>"",F8<>"",F8>G8),3,IF(AND(G8<>"",F8<>"",F8=G8),1,0)) -> 0 | L8: =IF(AND(G8<>"",F8<>"",F8<G8),3,IF(AND(F8<>"",G8<>"",F8=G8),1,0)) -> 3 | O8: =COUNTIF($I$3:I8,"*"&fav&"*") -> 0 | P8: =COUNTIF(I8,"*"&fav&"*") -> 0 | Q8: =IF(RIGHT(I8,LEN($S$2))=$S$2,L8,IF(LEFT(I8,LEN($S$2))=$S$2,K8,0)) -> 0
B9: 1 | C9: 44066 | D9: GÓRNIK ZABRZE | E9: PODBESKIDZIE BIELSKO-BIAŁA | F9: 4 | G9: 2 | H9: =F9 -> 4 | I9: =D9&E9 -> GÓRNIK ZABRZEPODBESKIDZIE BIELSKO-BIAŁA | J9: =F9&" : "&G9 -> 4 : 2 | K9: =IF(AND(G9<>"",F9<>"",F9>G9),3,IF(AND(G9<>"",F9<>"",F9=G9),1,0)) -> 3 | L9: =IF(AND(G9<>"",F9<>"",F9<G9),3,IF(AND(F9<>"",G9<>"",F9=G9),1,0)) -> 0 | O9: =COUNTIF($I$3:I9,"*"&fav&"*") -> 1 | P9: =COUNTIF(I9,"*"&fav&"*") -> 1 | Q9: =IF(RIGHT(I9,LEN($S$2))=$S$2,L9,IF(LEFT(I9,LEN($S$2))=$S$2,K9,0)) -> 3
B10: 1 | C10: 44067 | D10: JAGIELLONIA BIAŁYSTOK | E10: WISŁA KRAKÓW | F10: 1 | G10: 1 | H10: =F10 -> 1 | I10: =D10&E10 -> JAGIELLONIA BIAŁYSTOKWISŁA KRAKÓW | J10: =F10&" : "&G10 -> 1 : 1 | K10: =IF(AND(G10<>"",F10<>"",F10>G10),3,IF(AND(G10<>"",F10<>"",F10=G10),1,0)) -> 1 | L10: =IF(AND(G10<>"",F10<>"",F10<G10),3,IF(AND(F10<>"",G10<>"",F10=G10),1,0)) -> 1 | O10: =COUNTIF($I$3:I10,"*"&fav&"*") -> 1 | P10: =COUNTIF(I10,"*"&fav&"*") -> 0 | Q10: =IF(RIGHT(I10,LEN($S$2))=$S$2,L10,IF(LEFT(I10,LEN($S$2))=$S$2,K10,0)) -> 0
B11: 2 | C11: 44071 | D11: ZAGŁĘBIE LUBIN | E11: WARTA POZNAŃ | F11: 1 | G11: 0 | H11: =F11 -> 1 | I11: =D11&E11 -> ZAGŁĘBIE LUBINWARTA POZNAŃ | J11: =F11&" : "&G11 -> 1 : 0 | K11: =IF(AND(G11<>"",F11<>"",F11>G11),3,IF(AND(G11<>"",F11<>"",F11=G11),1,0)) -> 3 | L11: =IF(AND(G11<>"",F11<>"",F11<G11),3,IF(AND(F11<>"",G11<>"",F11=G11),1,0)) -> 0 | O11: =COUNTIF($I$3:I11,"*"&fav&"*") -> 1 | P11: =COUNTIF(I11,"*"&fav&"*") -> 0 | Q11: =IF(RIGHT(I11,LEN($S$2))=$S$2,L11,IF(LEFT(I11,LEN($S$2))=$S$2,K11,0)) -> 0
B12: 2 | C12: 44071 | D12: STAL MIELEC | E12: GÓRNIK ZABRZE | F12: 0 | G12: 2 | H12: =F12 -> 0 | I12: =D12&E12 -> STAL MIELECGÓRNIK ZABRZE | J12: =F12&" : "&G12 -> 0 : 2 | K12: =IF(AND(G12<>"",F12<>"",F12>G12),3,IF(AND(G12<>"",F12<>"",F12=G12),1,0)) -> 0 | L12: =IF(AND(G12<>"",F12<>"",F12<G12),3,IF(AND(F12<>"",G12<>"",F12=G12),1,0)) -> 3 | O12: =COUNTIF($I$3:I12,"*"&fav&"*") -> 2 | P12: =COUNTIF(I12,"*"&fav&"*") -> 1 | Q12: =IF(RIGHT(I12,LEN($S$2))=$S$2,L12,IF(LEFT(I12,LEN($S$2))=$S$2,K12,0)) -> 3
B13: 2 | C13: 44072 | D13: LECHIA GDAŃSK | E13: RAKÓW CZĘSTOCHOWA | F13: 1 | G13: 3 | H13: =F13 -> 1 | I13: =D13&E13 -> LECHIA GDAŃSKRAKÓW CZĘSTOCHOWA | J13: =F13&" : "&G13 -> 1 : 3 | K13: =IF(AND(G13<>"",F13<>"",F13>G13),3,IF(AND(G13<>"",F13<>"",F13=G13),1,0)) -> 0 | L13: =IF(AND(G13<>"",F13<>"",F13<G13),3,IF(AND(F13<>"",G13<>"",F13=G13),1,0)) -> 3 | O13: =COUNTIF($I$3:I13,"*"&fav&"*") -> 2 | P13: =COUNTIF(I13,"*"&fav&"*") -> 0 | Q13: =IF(RIGHT(I13,LEN($S$2))=$S$2,L13,IF(LEFT(I13,LEN($S$2))=$S$2,K13,0)) -> 0
B14: 2 | C14: 44072 | D14: WISŁA KRAKÓW | E14: ŚLĄSK WROCŁAW | F14: 1 | G14: 3 | H14: =F14 -> 1 | I14: =D14&E14 -> WISŁA KRAKÓWŚLĄSK WROCŁAW | J14: =F14&" : "&G14 -> 1 : 3 | K14: =IF(AND(G14<>"",F14<>"",F14>G14),3,IF(AND(G14<>"",F14<>"",F14=G14),1,0)) -> 0 | L14: =IF(AND(G14<>"",F14<>"",F14<G14),3,IF(AND(F14<>"",G14<>"",F14=G14),1,0)) -> 3 | O14: =COUNTIF($I$3:I14,"*"&fav&"*") -> 2 | P14: =COUNTIF(I14,"*"&fav&"*") -> 0 | Q14: =IF(RIGHT(I14,LEN($S$2))=$S$2,L14,IF(LEFT(I14,LEN($S$2))=$S$2,K14,0)) -> 0
... B34: 4 | C34: 44095 | D34: PIAST GLIWICE | E34: JAGIELLONIA BIAŁYSTOK | F34: 0 | G34: 1 | H34: =F34 -> 0 | I34: =D34&E34 -> PIAST GLIWICEJAGIELLONIA BIAŁYSTOK | J34: =F34&" : "&G34 -> 0 : 1 | K34: =IF(AND(G34<>"",F34<>"",F34>G34),3,IF(AND(G34<>"",F34<>"",F34=G34),1,0)) -> 0 | L34: =IF(AND(G34<>"",F34<>"",F34<G34),3,IF(AND(F34<>"",G34<>"",F34=G34),1,0)) -> 3 | O34: =COUNTIF($I$3:I34,"*"&fav&"*") -> 4 | P34: =COUNTIF(I34,"*"&fav&"*") -> 0 | Q34: =IF(RIGHT(I34,LEN($S$2))=$S$2,L34,IF(LEFT(I34,LEN($S$2))=$S$2,K34,0)) -> 0
B35: 5 | C35: 44099 | D35: WISŁA PŁOCK | E35: WARTA POZNAŃ | H35: =F35 -> 0 | I35: =D35&E35 -> WISŁA PŁOCKWARTA POZNAŃ | J35: =F35&" : "&G35 -> : | K35: =IF(AND(G35<>"",F35<>"",F35>G35),3,IF(AND(G35<>"",F35<>"",F35=G35),1,0)) -> 0 | L35: =IF(AND(G35<>"",F35<>"",F35<G35),3,IF(AND(F35<>"",G35<>"",F35=G35),1,0)) -> 0 | O35: =COUNTIF($I$3:I35,"*"&fav&"*") -> 4 | P35: =COUNTIF(I35,"*"&fav&"*") -> 0 | Q35: =IF(RIGHT(I35,LEN($S$2))=$S$2,L35,IF(LEFT(I35,LEN($S$2))=$S$2,K35,0)) -> 0
B36: 5 | C36: 44099 | D36: GÓRNIK ZABRZE | E36: WISŁA KRAKÓW | H36: =F36 -> 0 | I36: =D36&E36 -> GÓRNIK ZABRZEWISŁA KRAKÓW | J36: =F36&" : "&G36 -> : | K36: =IF(AND(G36<>"",F36<>"",F36>G36),3,IF(AND(G36<>"",F36<>"",F36=G36),1,0)) -> 0 | L36: =IF(AND(G36<>"",F36<>"",F36<G36),3,IF(AND(F36<>"",G36<>"",F36=G36),1,0)) -> 0 | O36: =COUNTIF($I$3:I36,"*"&fav&"*") -> 5 | P36: =COUNTIF(I36,"*"&fav&"*") -> 1 | Q36: =IF(RIGHT(I36,LEN($S$2))=$S$2,L36,IF(LEFT(I36,LEN($S$2))=$S$2,K36,0)) -> 0
B37: 5 | C37: 44100 | D37: CRACOVIA | E37: RAKÓW CZĘSTOCHOWA | H37: =F37 -> 0 | I37: =D37&E37 -> CRACOVIARAKÓW CZĘSTOCHOWA | J37: =F37&" : "&G37 -> : | K37: =IF(AND(G37<>"",F37<>"",F37>G37),3,IF(AND(G37<>"",F37<>"",F37=G37),1,0)) -> 0 | L37: =IF(AND(G37<>"",F37<>"",F37<G37),3,IF(AND(F37<>"",G37<>"",F37=G37),1,0)) -> 0 | O37: =COUNTIF($I$3:I37,"*"&fav&"*") -> 5 | P37: =COUNTIF(I37,"*"&fav&"*") -> 0 | Q37: =IF(RIGHT(I37,LEN($S$2))=$S$2,L37,IF(LEFT(I37,LEN($S$2))=$S$2,K37,0)) -> 0
B38: 5 | C38: 44100 | D38: LECHIA GDAŃSK | E38: PODBESKIDZIE BIELSKO-BIAŁA | H38: =F38 -> 0 | I38: =D38&E38 -> LECHIA GDAŃSKPODBESKIDZIE BIELSKO-BIAŁA | J38: =F38&" : "&G38 -> : | K38: =IF(AND(G38<>"",F38<>"",F38>G38),3,IF(AND(G38<>"",F38<>"",F38=G38),1,0)) -> 0 | L38: =IF(AND(G38<>"",F38<>"",F38<G38),3,IF(AND(F38<>"",G38<>"",F38=G38),1,0)) -> 0 | O38: =COUNTIF($I$3:I38,"*"&fav&"*") -> 5 | P38: =COUNTIF(I38,"*"&fav&"*") -> 0 | Q38: =IF(RIGHT(I38,LEN($S$2))=$S$2,L38,IF(LEFT(I38,LEN($S$2))=$S$2,K38,0)) -> 0
B39: 5 | C39: 44100 | D39: JAGIELLONIA BIAŁYSTOK | E39: ZAGŁĘBIE LUBIN | H39: =F39 -> 0 | I39: =D39&E39 -> JAGIELLONIA BIAŁYSTOKZAGŁĘBIE LUBIN | J39: =F39&" : "&G39 -> : | K39: =IF(AND(G39<>"",F39<>"",F39>G39),3,IF(AND(G39<>"",F39<>"",F39=G39),1,0)) -> 0 | L39: =IF(AND(G39<>"",F39<>"",F39<G39),3,IF(AND(F39<>"",G39<>"",F39=G39),1,0)) -> 0 | O39: =COUNTIF($I$3:I39,"*"&fav&"*") -> 5 | P39: =COUNTIF(I39,"*"&fav&"*") -> 0 | Q39: =IF(RIGHT(I39,LEN($S$2))=$S$2,L39,IF(LEFT(I39,LEN($S$2))=$S$2,K39,0)) -> 0
B40: 5 | C40: 44101 | D40: STAL MIELEC | E40: PIAST GLIWICE | H40: =F40 -> 0 | I40: =D40&E40 -> STAL MIELECPIAST GLIWICE | J40: =F40&" : "&G40 -> : | K40: =IF(AND(G40<>"",F40<>"",F40>G40),3,IF(AND(G40<>"",F40<>"",F40=G40),1,0)) -> 0 | L40: =IF(AND(G40<>"",F40<>"",F40<G40),3,IF(AND(F40<>"",G40<>"",F40=G40),1,0)) -> 0 | O40: =COUNTIF($I$3:I40,"*"&fav&"*") -> 5 | P40: =COUNTIF(I40,"*"&fav&"*") -> 0 | Q40: =IF(RIGHT(I40,LEN($S$2))=$S$2,L40,IF(LEFT(I40,LEN($S$2))=$S$2,K40,0)) -> 0
B41: 5 | C41: 44101 | D41: LECH POZNAŃ | E41: POGOŃ SZCZECIN | H41: =F41 -> 0 | I41: =D41&E41 -> LECH POZNAŃPOGOŃ SZCZECIN | J41: =F41&" : "&G41 -> : | K41: =IF(AND(G41<>"",F41<>"",F41>G41),3,IF(AND(G41<>"",F41<>"",F41=G41),1,0)) -> 0 | L41: =IF(AND(G41<>"",F41<>"",F41<G41),3,IF(AND(F41<>"",G41<>"",F41=G41),1,0)) -> 0 | O41: =COUNTIF($I$3:I41,"*"&fav&"*") -> 5 | P41: =COUNTIF(I41,"*"&fav&"*") -> 0 | Q41: =IF(RIGHT(I41,LEN($S$2))=$S$2,L41,IF(LEFT(I41,LEN($S$2))=$S$2,K41,0)) -> 0
B42: 5 | C42: 44101 | D42: LEGIA WARSZAWA | E42: ŚLĄSK WROCŁAW | H42: =F42 -> 0 | I42: =D42&E42 -> LEGIA WARSZAWAŚLĄSK WROCŁAW | J42: =F42&" : "&G42 -> : | K42: =IF(AND(G42<>"",F42<>"",F42>G42),3,IF(AND(G42<>"",F42<>"",F42=G42),1,0)) -> 0 | L42: =IF(AND(G42<>"",F42<>"",F42<G42),3,IF(AND(F42<>"",G42<>"",F42=G42),1,0)) -> 0 | O42: =COUNTIF($I$3:I42,"*"&fav&"*") -> 5 | P42: =COUNTIF(I42,"*"&fav&"*") -> 0 | Q42: =IF(RIGHT(I42,LEN($S$2))=$S$2,L42,IF(LEFT(I42,LEN($S$2))=$S$2,K42,0)) -> 0
B43: 6 | C43: 44107 | D43: PIAST GLIWICE | E43: LECH POZNAŃ | H43: =F43 -> 0 | I43: =D43&E43 -> PIAST GLIWICELECH POZNAŃ | J43: =F43&" : "&G43 -> : | K43: =IF(AND(G43<>"",F43<>"",F43>G43),3,IF(AND(G43<>"",F43<>"",F43=G43),1,0)) -> 0 | L43: =IF(AND(G43<>"",F43<>"",F43<G43),3,IF(AND(F43<>"",G43<>"",F43=G43),1,0)) -> 0 | O43: =COUNTIF($I$3:I43,"*"&fav&"*") -> 5 | P43: =COUNTIF(I43,"*"&fav&"*") -> 0 | Q43: =IF(RIGHT(I43,LEN($S$2))=$S$2,L43,IF(LEFT(I43,LEN($S$2))=$S$2,K43,0)) -> 0
B44: 6 | C44: 44107 | D44: PODBESKIDZIE BIELSKO-BIAŁA | E44: STAL MIELEC | H44: =F44 -> 0 | I44: =D44&E44 -> PODBESKIDZIE BIELSKO-BIAŁASTAL MIELEC | J44: =F44&" : "&G44 -> : | K44: =IF(AND(G44<>"",F44<>"",F44>G44),3,IF(AND(G44<>"",F44<>"",F44=G44),1,0)) -> 0 | L44: =IF(AND(G44<>"",F44<>"",F44<G44),3,IF(AND(F44<>"",G44<>"",F44=G44),1,0)) -> 0 | O44: =COUNTIF($I$3:I44,"*"&fav&"*") -> 5 | P44: =COUNTIF(I44,"*"&fav&"*") -> 0 | Q44: =IF(RIGHT(I44,LEN($S$2))=$S$2,L44,IF(LEFT(I44,LEN($S$2))=$S$2,K44,0)) -> 0
B45: 6 | C45: 44107 | D45: POGOŃ SZCZECIN | E45: JAGIELLONIA BIAŁYSTOK | H45: =F45 -> 0 | I45: =D45&E45 -> POGOŃ SZCZECINJAGIELLONIA BIAŁYSTOK | J45: =F45&" : "&G45 -> : | K45: =IF(AND(G45<>"",F45<>"",F45>G45),3,IF(AND(G45<>"",F45<>"",F45=G45),1,0)) -> 0 | L45: =IF(AND(G45<>"",F45<>"",F45<G45),3,IF(AND(F45<>"",G45<>"",F45=G45),1,0)) -> 0 | O45: =COUNTIF($I$3:I45,"*"&fav&"*") -> 5 | P45: =COUNTIF(I45,"*"&fav&"*") -> 0 | Q45: =IF(RIGHT(I45,LEN($S$2))=$S$2,L45,IF(LEFT(I45,LEN($S$2))=$S$2,K45,0)) -> 0
B46: 6 | C46: 44107 | D46: RAKÓW CZĘSTOCHOWA | E46: WISŁA PŁOCK | H46: =F46 -> 0 | I46: =D46&E46 -> RAKÓW CZĘSTOCHOWAWISŁA PŁOCK | J46: =F46&" : "&G46 -> : | K46: =IF(AND(G46<>"",F46<>"",F46>G46),3,IF(AND(G46<>"",F46<>"",F46=G46),1,0)) -> 0 | L46: =IF(AND(G46<>"",F46<>"",F46<G46),3,IF(AND(F46<>"",G46<>"",F46=G46),1,0)) -> 0 | O46: =COUNTIF($I$3:I46,"*"&fav&"*") -> 5 | P46: =COUNTIF(I46,"*"&fav&"*") -> 0 | Q46: =IF(RIGHT(I46,LEN($S$2))=$S$2,L46,IF(LEFT(I46,LEN($S$2))=$S$2,K46,0)) -> 0
... B242: 30 | C242: 44332 | D242: ŚLĄSK WROCŁAW | E242: STAL MIELEC | H242: =F242 -> 0 | I242: =D242&E242 -> ŚLĄSK WROCŁAWSTAL MIELEC | J242: =F242&" : "&G242 -> : | K242: =IF(AND(G242<>"",F242<>"",F242>G242),3,IF(AND(G242<>"",F242<>"",F242=G242),1,0)) -> 0 | L242: =IF(AND(G242<>"",F242<>"",F242<G242),3,IF(AND(F242<>"",G242<>"",F242=G242),1,0)) -> 0 | O242: =COUNTIF($I$3:I242,"*"&fav&"*") -> 30 | P242: =COUNTIF(I242,"*"&fav&"*") -> 0 | Q242: =IF(RIGHT(I242,LEN($S$2))=$S$2,L242,IF(LEFT(I242,LEN($S$2))=$S$2,K242,0)) -> 0

Sheet tabela
AF1: 1000 | AG1: 10 | AI1: 10 | AJ1: 0.01 | AL1: dom | AR1: wyjazd
B2: pozycja | C2: drużyna | D2: mecze | E2: punkty | F2: bramki strzelone | G2: bramki stracone | H2: różnica bramek | K2: Rank | L2: dom | M2: wyjazd | N2: SEZON 2020 / 21 | O2: CRACOVIA | P2: GÓRNIK ZABRZE | Q2: JAGIELLONIA BIAŁYSTOK | R2: LECH POZNAŃ | S2: LECHIA GDAŃSK | T2: LEGIA WARSZAWA | U2: PIAST GLIWICE | V2: PODBESKIDZIE BIELSKO-BIAŁA | W2: POGOŃ SZCZECIN | X2: RAKÓW CZĘSTOCHOWA | Y2: ŚLĄSK WROCŁAW | Z2: STAL MIELEC | AA2: WARTA POZNAŃ | AB2: WISŁA KRAKÓW | AC2: WISŁA PŁOCK | AD2: ZAGŁĘBIE LUBIN | AE2: mecze | AF2: pkt | AG2: G+ | AH2: G- | AI2: roznica | AJ2: wsp | AK2: total | AL2: mecze | AM2: pkt | AN2: G+ | AO2: G- | AP2: roznica | AQ2: total | AR2: mecze | AS2: pkt | AT2: G+ | AU2: G- | AV2: roznica | AW2: total
B3: 1 | C3: =VLOOKUP(B3,$K$3:$N$18,4,FALSE) -> GÓRNIK ZABRZE | D3: =VLOOKUP(C3,$N$3:$AI$18,18,FALSE) -> 4 | E3: =VLOOKUP(C3,$N$3:$AI$18,19,FALSE) -> 12 | F3: =VLOOKUP(C3,$N$3:$AI$18,20,FALSE) -> 12 | G3: =VLOOKUP(C3,$N$3:$AI$18,21,FALSE) -> 3 | H3: =VLOOKUP(C3,$N$3:$AI$18,22,FALSE) -> 9 | K3: =RANK(AK3,$AK$3:$AK$18) -> 7 | L3: =RANK(AQ3,$AQ$3:$AQ$18) -> 4 | M3: =RANK(AW3,$AW$3:$AW$18) -> 9 | N3: CRACOVIA | O3: =IFERROR(VLOOKUP($N3&O$2,terminarz!$I:$J,2,FALSE)," ") | P3: =IFERROR(VLOOKUP($N3&P$2,terminarz!$I:$J,2,FALSE)," ") -> : | Q3: =IFERROR(VLOOKUP($N3&Q$2,terminarz!$I:$J,2,FALSE)," ") -> : | R3: =IFERROR(VLOOKUP($N3&R$2,terminarz!$I:$J,2,FALSE)," ") -> : | S3: =IFERROR(VLOOKUP($N3&S$2,terminarz!$I:$J,2,FALSE)," ") -> : | T3: =IFERROR(VLOOKUP($N3&T$2,terminarz!$I:$J,2,FALSE)," ") -> : | U3: =IFERROR(VLOOKUP($N3&U$2,terminarz!$I:$J,2,FALSE)," ") -> : | V3: =IFERROR(VLOOKUP($N3&V$2,terminarz!$I:$J,2,FALSE)," ") -> : | ... AD3: =IFERROR(VLOOKUP($N3&AD$2,terminarz!$I:$J,2,FALSE)," ") -> : | AE3: =COUNTIFS(terminarz!$D:$E,N3,terminarz!$F:$G,"<>"&"") -> 4 | AF3: =SUMIF(terminarz!$D:$E,N3,terminarz!$K:$L) -> 6 | AG3: =SUMIF(terminarz!$D:$E,tabela!N3,terminarz!$F:$G) -> 6 | AH3: =SUMIF(terminarz!$D:$E,tabela!N3,terminarz!$G:$H) -> 5 | AI3: =AG3-AH3 -> 1 | AJ3: 1 | AK3: =RANK(AF3,$AF$3:$AF$18,1)*$AF$1+RANK(AI3,$AI$3:$AI$18,1)*$AI$1+RANK(AG3,$AG$3:$AG$18,1)*$AG$1+RANK(AJ3,$AJ$3:$AJ$18,0)*$AJ$1 -> 8170.16 | AL3: =COUNTIFS(terminarz!$D:$D,N3,terminarz!$F:$F,"<>"&"") -> 2 | AM3: =SUMIF(terminarz!$D:$D,N3,terminarz!$K:$K) -> 4 | AN3: =SUMIF(terminarz!$D:$D,tabela!N3,terminarz!$F:$F) -> 3 | AO3: =SUMIF(terminarz!$D:$D,tabela!N3,terminarz!$G:$G) -> 2 | AP3: =AN3-AO3 -> 1 | AQ3: =RANK(AM3,$AM$3:$AM$18,1)*$AF$1+RANK(AP3,$AP$3:$AP$18,1)*$AI$1+RANK(AN3,$AN$3:$AN$18,1)*$AG$1+RANK(AJ3,$AJ$3:$AJ$18,0)*$AJ$1 -> 11180.16 | AR3: =COUNTIFS(terminarz!$E:$E,N3,terminarz!$G:$G,"<>"&"") -> 2 | AS3: =SUMIF(terminarz!$E:$E,N3,terminarz!$L:$L) -> 2 | AT3: =SUMIF(terminarz!$E:$E,tabela!N3,terminarz!$G:$G) -> 3 | AU3: =SUMIF(terminarz!$E:$E,tabela!N3,terminarz!$H:$H) -> 3 | AV3: =AT3-AU3 -> 0 | AW3: =RANK(AS3,$AS$3:$AS$18,1)*$AF$1+RANK(AV3,$AV$3:$AV$18,1)*$AI$1+RANK(AT3,$AT$3:$AT$18,1)*$AG$1+RANK(AJ3,$AJ$3:$AJ$18,0)*$AJ$1 -> 6140.16
B4: 2 | C4: =VLOOKUP(B4,$K$3:$N$18,4,FALSE) -> RAKÓW CZĘSTOCHOWA | D4: =VLOOKUP(C4,$N$3:$AI$18,18,FALSE) -> 4 | E4: =VLOOKUP(C4,$N$3:$AI$18,19,FALSE) -> 9 | F4: =VLOOKUP(C4,$N$3:$AI$18,20,FALSE) -> 10 | G4: =VLOOKUP(C4,$N$3:$AI$18,21,FALSE) -> 5 | H4: =VLOOKUP(C4,$N$3:$AI$18,22,FALSE) -> 5 | K4: =RANK(AK4,$AK$3:$AK$18) -> 1 | L4: =RANK(AQ4,$AQ$3:$AQ$18) -> 2 | M4: =RANK(AW4,$AW$3:$AW$18) -> 2 | N4: GÓRNIK ZABRZE | O4: =IFERROR(VLOOKUP($N4&O$2,terminarz!$I:$J,2,FALSE)," ") -> : | P4: =IFERROR(VLOOKUP($N4&P$2,terminarz!$I:$J,2,FALSE)," ") | Q4: =IFERROR(VLOOKUP($N4&Q$2,terminarz!$I:$J,2,FALSE)," ") -> : | R4: =IFERROR(VLOOKUP($N4&R$2,terminarz!$I:$J,2,FALSE)," ") -> : | S4: =IFERROR(VLOOKUP($N4&S$2,terminarz!$I:$J,2,FALSE)," ") -> 3 : 0 | T4: =IFERROR(VLOOKUP($N4&T$2,terminarz!$I:$J,2,FALSE)," ") -> : | U4: =IFERROR(VLOOKUP($N4&U$2,terminarz!$I:$J,2,FALSE)," ") -> : | V4: =IFERROR(VLOOKUP($N4&V$2,terminarz!$I:$J,2,FALSE)," ") -> 4 : 2 | ... AD4: =IFERROR(VLOOKUP($N4&AD$2,terminarz!$I:$J,2,FALSE)," ") -> : | AE4: =COUNTIFS(terminarz!$D:$E,N4,terminarz!$F:$G,"<>"&"") -> 4 | AF4: =SUMIF(terminarz!$D:$E,N4,terminarz!$K:$L) -> 12 | AG4: =SUMIF(terminarz!$D:$E,tabela!N4,terminarz!$F:$G) -> 12 | AH4: =SUMIF(terminarz!$D:$E,tabela!N4,terminarz!$G:$H) -> 3 | AI4: =AG4-AH4 -> 9 | AJ4: 2 | AK4: =RANK(AF4,$AF$3:$AF$18,1)*$AF$1+RANK(AI4,$AI$3:$AI$18,1)*$AI$1+RANK(AG4,$AG$3:$AG$18,1)*$AG$1+RANK(AJ4,$AJ$3:$AJ$18,0)*$AJ$1 -> 16320.15 | AL4: =COUNTIFS(terminarz!$D:$D,N4,terminarz!$F:$F,"<>"&"") -> 2 | AM4: =SUMIF(terminarz!$D:$D,N4,terminarz!$K:$K) -> 6 | AN4: =SUMIF(terminarz!$D:$D,tabela!N4,terminarz!$F:$F) -> 7 | AO4: =SUMIF(terminarz!$D:$D,tabela!N4,terminarz!$G:$G) -> 2 | AP4: =AN4-AO4 -> 5 | AQ4: =RANK(AM4,$AM$3:$AM$18,1)*$AF$1+RANK(AP4,$AP$3:$AP$18,1)*$AI$1+RANK(AN4,$AN$3:$AN$18,1)*$AG$1+RANK(AJ4,$AJ$3:$AJ$18,0)*$AJ$1 -> 15320.15 | AR4: =COUNTIFS(terminarz!$E:$E,N4,terminarz!$G:$G,"<>"&"") -> 2 | AS4: =SUMIF(terminarz!$E:$E,N4,terminarz!$L:$L) -> 6 | AT4: =SUMIF(terminarz!$E:$E,tabela!N4,terminarz!$G:$G) -> 5 | AU4: =SUMIF(terminarz!$E:$E,tabela!N4,terminarz!$H:$H) -> 1 | AV4: =AT4-AU4 -> 4 | AW4: =RANK(AS4,$AS$3:$AS$18,1)*$AF$1+RANK(AV4,$AV$3:$AV$18,1)*$AI$1+RANK(AT4,$AT$3:$AT$18,1)*$AG$1+RANK(AJ4,$AJ$3:$AJ$18,0)*$AJ$1 -> 13290.15
B5: 3 | C5: =VLOOKUP(B5,$K$3:$N$18,4,FALSE) -> JAGIELLONIA BIAŁYSTOK | D5: =VLOOKUP(C5,$N$3:$AI$18,18,FALSE) -> 4 | E5: =VLOOKUP(C5,$N$3:$AI$18,19,FALSE) -> 8 | F5: =VLOOKUP(C5,$N$3:$AI$18,20,FALSE) -> 6 | G5: =VLOOKUP(C5,$N$3:$AI$18,21,FALSE) -> 4 | H5: =VLOOKUP(C5,$N$3:$AI$18,22,FALSE) -> 2 | K5: =RANK(AK5,$AK$3:$AK$18) -> 3 | L5: =RANK(AQ5,$AQ$3:$AQ$18) -> 9 | M5: =RANK(AW5,$AW$3:$AW$18) -> 3 | N5: JAGIELLONIA BIAŁYSTOK | O5: =IFERROR(VLOOKUP($N5&O$2,terminarz!$I:$J,2,FALSE)," ") -> : | P5: =IFERROR(VLOOKUP($N5&P$2,terminarz!$I:$J,2,FALSE)," ") -> : | Q5: =IFERROR(VLOOKUP($N5&Q$2,terminarz!$I:$J,2,FALSE)," ") | R5: =IFERROR(VLOOKUP($N5&R$2,terminarz!$I:$J,2,FALSE)," ") -> : | S5: =IFERROR(VLOOKUP($N5&S$2,terminarz!$I:$J,2,FALSE)," ") -> : | T5: =IFERROR(VLOOKUP($N5&T$2,terminarz!$I:$J,2,FALSE)," ") -> : | U5: =IFERROR(VLOOKUP($N5&U$2,terminarz!$I:$J,2,FALSE)," ") -> : | V5: =IFERROR(VLOOKUP($N5&V$2,terminarz!$I:$J,2,FALSE)," ") -> 2 : 2 | ... AD5: =IFERROR(VLOOKUP($N5&AD$2,terminarz!$I:$J,2,FALSE)," ") -> : | AE5: =COUNTIFS(terminarz!$D:$E,N5,terminarz!$F:$G,"<>"&"") -> 4 | AF5: =SUMIF(terminarz!$D:$E,N5,terminarz!$K:$L) -> 8 | AG5: =SUMIF(terminarz!$D:$E,tabela!N5,terminarz!$F:$G) -> 6 | AH5: =SUMIF(terminarz!$D:$E,tabela!N5,terminarz!$G:$H) -> 4 | AI5: =AG5-AH5 -> 2 | AJ5: 3 | AK5: =RANK(AF5,$AF$3:$AF$18,1)*$AF$1+RANK(AI5,$AI$3:$AI$18,1)*$AI$1+RANK(AG5,$AG$3:$AG$18,1)*$AG$1+RANK(AJ5,$AJ$3:$AJ$18,0)*$AJ$1 -> 14200.14 | AL5: =COUNTIFS(terminarz!$D:$D,N5,terminarz!$F:$F,"<>"&"") -> 2 | AM5: =SUMIF(terminarz!$D:$D,N5,terminarz!$K:$K) -> 2 | AN5: =SUMIF(terminarz!$D:$D,tabela!N5,terminarz!$F:$F) -> 3 | AO5: =SUMIF(terminarz!$D:$D,tabela!N5,terminarz!$G:$G) -> 3 | AP5: =AN5-AO5 -> 0 | AQ5: =RANK(AM5,$AM$3:$AM$18,1)*$AF$1+RANK(AP5,$AP$3:$AP$18,1)*$AI$1+RANK(AN5,$AN$3:$AN$18,1)*$AG$1+RANK(AJ5,$AJ$3:$AJ$18,0)*$AJ$1 -> 8150.14 | AR5: =COUNTIFS(terminarz!$E:$E,N5,terminarz!$G:$G,"<>"&"") -> 2 | AS5: =SUMIF(terminarz!$E:$E,N5,terminarz!$L:$L) -> 6 | AT5: =SUMIF(terminarz!$E:$E,tabela!N5,terminarz!$G:$G) -> 3 | AU5: =SUMIF(terminarz!$E:$E,tabela!N5,terminarz!$H:$H) -> 1 | AV5: =AT5-AU5 -> 2 | AW5: =RANK(AS5,$AS$3:$AS$18,1)*$AF$1+RANK(AV5,$AV$3:$AV$18,1)*$AI$1+RANK(AT5,$AT$3:$AT$18,1)*$AG$1+RANK(AJ5,$AJ$3:$AJ$18,0)*$AJ$1 -> 13180.14
B6: 4 | C6: =VLOOKUP(B6,$K$3:$N$18,4,FALSE) -> ŚLĄSK WROCŁAW | D6: =VLOOKUP(C6,$N$3:$AI$18,18,FALSE) -> 4 | E6: =VLOOKUP(C6,$N$3:$AI$18,19,FALSE) -> 7 | F6: =VLOOKUP(C6,$N$3:$AI$18,20,FALSE) -> 8 | G6: =VLOOKUP(C6,$N$3:$AI$18,21,FALSE) -> 5 | H6: =VLOOKUP(C6,$N$3:$AI$18,22,FALSE) -> 3 | K6: =RANK(AK6,$AK$3:$AK$18) -> 10 | L6: =RANK(AQ6,$AQ$3:$AQ$18) -> 5 | M6: =RANK(AW6,$AW$3:$AW$18) -> 12 | N6: LECH POZNAŃ | O6: =IFERROR(VLOOKUP($N6&O$2,terminarz!$I:$J,2,FALSE)," ") -> : | P6: =IFERROR(VLOOKUP($N6&P$2,terminarz!$I:$J,2,FALSE)," ") -> : | Q6: =IFERROR(VLOOKUP($N6&Q$2,terminarz!$I:$J,2,FALSE)," ") -> : | R6: =IFERROR(VLOOKUP($N6&R$2,terminarz!$I:$J,2,FALSE)," ") | S6: =IFERROR(VLOOKUP($N6&S$2,terminarz!$I:$J,2,FALSE)," ") -> : | T6: =IFERROR(VLOOKUP($N6&T$2,terminarz!$I:$J,2,FALSE)," ") -> : | U6: =IFERROR(VLOOKUP($N6&U$2,terminarz!$I:$J,2,FALSE)," ") -> : | V6: =IFERROR(VLOOKUP($N6&V$2,terminarz!$I:$J,2,FALSE)," ") -> : | ... AD6: =IFERROR(VLOOKUP($N6&AD$2,terminarz!$I:$J,2,FALSE)," ") -> : | AE6: =COUNTIFS(terminarz!$D:$E,N6,terminarz!$F:$G,"<>"&"") -> 4 | AF6: =SUMIF(terminarz!$D:$E,N6,terminarz!$K:$L) -> 5 | AG6: =SUMIF(terminarz!$D:$E,tabela!N6,terminarz!$F:$G) -> 7 | AH6: =SUMIF(terminarz!$D:$E,tabela!N6,terminarz!$G:$H) -> 7 | AI6: =AG6-AH6 -> 0 | AJ6: 4 | AK6: =RANK(AF6,$AF$3:$AF$18,1)*$AF$1+RANK(AI6,$AI$3:$AI$18,1)*$AI$1+RANK(AG6,$AG$3:$AG$18,1)*$AG$1+RANK(AJ6,$AJ$3:$AJ$18,0)*$AJ$1 -> 6200.13 | AL6: =COUNTIFS(terminarz!$D:$D,N6,terminarz!$F:$F,"<>"&"") -> 2 | AM6: =SUMIF(terminarz!$D:$D,N6,terminarz!$K:$K) -> 4 | AN6: =SUMIF(terminarz!$D:$D,tabela!N6,terminarz!$F:$F) -> 3 | AO6: =SUMIF(terminarz!$D:$D,tabela!N6,terminarz!$G:$G) -> 2 | AP6: =AN6-AO6 -> 1 | AQ6: =RANK(AM6,$AM$3:$AM$18,1)*$AF$1+RANK(AP6,$AP$3:$AP$18,1)*$AI$1+RANK(AN6,$AN$3:$AN$18,1)*$AG$1+RANK(AJ6,$AJ$3:$AJ$18,0)*$AJ$1 -> 11180.13 | AR6: =COUNTIFS(terminarz!$E:$E,N6,terminarz!$G:$G,"<>"&"") -> 2 | AS6: =SUMIF(terminarz!$E:$E,N6,terminarz!$L:$L) -> 1 | AT6: =SUMIF(terminarz!$E:$E,tabela!N6,terminarz!$G:$G) -> 4 | AU6: =SUMIF(terminarz!$E:$E,tabela!N6,terminarz!$H:$H) -> 5 | AV6: =AT6-AU6 -> -1 | AW6: =RANK(AS6,$AS$3:$AS$18,1)*$AF$1+RANK(AV6,$AV$3:$AV$18,1)*$AI$1+RANK(AT6,$AT$3:$AT$18,1)*$AG$1+RANK(AJ6,$AJ$3:$AJ$18,0)*$AJ$1 -> 3170.13
B7: 5 | C7: =VLOOKUP(B7,$K$3:$N$18,4,FALSE) -> POGOŃ SZCZECIN | D7: =VLOOKUP(C7,$N$3:$AI$18,18,FALSE) -> 4 | E7: =VLOOKUP(C7,$N$3:$AI$18,19,FALSE) -> 7 | F7: =VLOOKUP(C7,$N$3:$AI$18,20,FALSE) -> 5 | G7: =VLOOKUP(C7,$N$3:$AI$18,21,FALSE) -> 4 | H7: =VLOOKUP(C7,$N$3:$AI$18,22,FALSE) -> 1 | K7: =RANK(AK7,$AK$3:$AK$18) -> 8 | L7: =RANK(AQ7,$AQ$3:$AQ$18) -> 7 | M7: =RANK(AW7,$AW$3:$AW$18) -> 8 | N7: LECHIA GDAŃSK | O7: =IFERROR(VLOOKUP($N7&O$2,terminarz!$I:$J,2,FALSE)," ") -> : | P7: =IFERROR(VLOOKUP($N7&P$2,terminarz!$I:$J,2,FALSE)," ") -> : | Q7: =IFERROR(VLOOKUP($N7&Q$2,terminarz!$I:$J,2,FALSE)," ") -> : | R7: =IFERROR(VLOOKUP($N7&R$2,terminarz!$I:$J,2,FALSE)," ") -> : | S7: =IFERROR(VLOOKUP($N7&S$2,terminarz!$I:$J,2,FALSE)," ") | T7: =IFERROR(VLOOKUP($N7&T$2,terminarz!$I:$J,2,FALSE)," ") -> : | U7: =IFERROR(VLOOKUP($N7&U$2,terminarz!$I:$J,2,FALSE)," ") -> : | V7: =IFERROR(VLOOKUP($N7&V$2,terminarz!$I:$J,2,FALSE)," ") -> : | ... AD7: =IFERROR(VLOOKUP($N7&AD$2,terminarz!$I:$J,2,FALSE)," ") -> : | AE7: =COUNTIFS(terminarz!$D:$E,N7,terminarz!$F:$G,"<>"&"") -> 4 | AF7: =SUMIF(terminarz!$D:$E,N7,terminarz!$K:$L) -> 6 | AG7: =SUMIF(terminarz!$D:$E,tabela!N7,terminarz!$F:$G) -> 6 | AH7: =SUMIF(terminarz!$D:$E,tabela!N7,terminarz!$G:$H) -> 8 | AI7: =AG7-AH7 -> -2 | AJ7: 5 | AK7: =RANK(AF7,$AF$3:$AF$18,1)*$AF$1+RANK(AI7,$AI$3:$AI$18,1)*$AI$1+RANK(AG7,$AG$3:$AG$18,1)*$AG$1+RANK(AJ7,$AJ$3:$AJ$18,0)*$AJ$1 -> 8140.12 | AL7: =COUNTIFS(terminarz!$D:$D,N7,terminarz!$F:$F,"<>"&"") -> 2 | AM7: =SUMIF(terminarz!$D:$D,N7,terminarz!$K:$K) -> 3 | AN7: =SUMIF(terminarz!$D:$D,tabela!N7,terminarz!$F:$F) -> 5 | AO7: =SUMIF(terminarz!$D:$D,tabela!N7,terminarz!$G:$G) -> 5 | AP7: =AN7-AO7 -> 0 | AQ7: =RANK(AM7,$AM$3:$AM$18,1)*$AF$1+RANK(AP7,$AP$3:$AP$18,1)*$AI$1+RANK(AN7,$AN$3:$AN$18,1)*$AG$1+RANK(AJ7,$AJ$3:$AJ$18,0)*$AJ$1 -> 9220.12 | AR7: =COUNTIFS(terminarz!$E:$E,N7,terminarz!$G:$G,"<>"&"") -> 2 | AS7: =SUMIF(terminarz!$E:$E,N7,terminarz!$L:$L) -> 3 | AT7: =SUMIF(terminarz!$E:$E,tabela!N7,terminarz!$G:$G) -> 1 | AU7: =SUMIF(terminarz!$E:$E,tabela!N7,terminarz!$H:$H) -> 3 | AV7: =AT7-AU7 -> -2 | AW7: =RANK(AS7,$AS$3:$AS$18,1)*$AF$1+RANK(AV7,$AV$3:$AV$18,1)*$AI$1+RANK(AT7,$AT$3:$AT$18,1)*$AG$1+RANK(AJ7,$AJ$3:$AJ$18,0)*$AJ$1 -> 9040.12
B8: 6 | C8: =VLOOKUP(B8,$K$3:$N$18,4,FALSE) -> ZAGŁĘBIE LUBIN | D8: =VLOOKUP(C8,$N$3:$AI$18,18,FALSE) -> 4 | E8: =VLOOKUP(C8,$N$3:$AI$18,19,FALSE) -> 7 | F8: =VLOOKUP(C8,$N$3:$AI$18,20,FALSE) -> 5 | G8: =VLOOKUP(C8,$N$3:$AI$18,21,FALSE) -> 4 | H8: =VLOOKUP(C8,$N$3:$AI$18,22,FALSE) -> 1 | K8: =RANK(AK8,$AK$3:$AK$18) -> 9 | L8: =RANK(AQ8,$AQ$3:$AQ$18) -> 13 | M8: =RANK(AW8,$AW$3:$AW$18) -> 4 | N8: LEGIA WARSZAWA | O8: =IFERROR(VLOOKUP($N8&O$2,terminarz!$I:$J,2,FALSE)," ") -> : | P8: =IFERROR(VLOOKUP($N8&P$2,terminarz!$I:$J,2,FALSE)," ") -> 1 : 3 | Q8: =IFERROR(VLOOKUP($N8&Q$2,terminarz!$I:$J,2,FALSE)," ") -> 1 : 2 | R8: =IFERROR(VLOOKUP($N8&R$2,terminarz!$I:$J,2,FALSE)," ") -> : | S8: =IFERROR(VLOOKUP($N8&S$2,terminarz!$I:$J,2,FALSE)," ") -> : | T8: =IFERROR(VLOOKUP($N8&T$2,terminarz!$I:$J,2,FALSE)," ") | U8: =IFERROR(VLOOKUP($N8&U$2,terminarz!$I:$J,2,FALSE)," ") -> : | V8: =IFERROR(VLOOKUP($N8&V$2,terminarz!$I:$J,2,FALSE)," ") -> : | ... AD8: =IFERROR(VLOOKUP($N8&AD$2,terminarz!$I:$J,2,FALSE)," ") -> : | AE8: =COUNTIFS(terminarz!$D:$E,N8,terminarz!$F:$G,"<>"&"") -> 4 | AF8: =SUMIF(terminarz!$D:$E,N8,terminarz!$K:$L) -> 6 | AG8: =SUMIF(terminarz!$D:$E,tabela!N8,terminarz!$F:$G) -> 5 | AH8: =SUMIF(terminarz!$D:$E,tabela!N8,terminarz!$G:$H) -> 6 | AI8: =AG8-AH8 -> -1 | AJ8: 6 | AK8: =RANK(AF8,$AF$3:$AF$18,1)*$AF$1+RANK(AI8,$AI$3:$AI$18,1)*$AI$1+RANK(AG8,$AG$3:$AG$18,1)*$AG$1+RANK(AJ8,$AJ$3:$AJ$18,0)*$AJ$1 -> 8120.11 | AL8: =COUNTIFS(terminarz!$D:$D,N8,terminarz!$F:$F,"<>"&"") -> 2 | AM8: =SUMIF(terminarz!$D:$D,N8,terminarz!$K:$K) -> 0 | AN8: =SUMIF(terminarz!$D:$D,tabela!N8,terminarz!$F:$F) -> 2 | AO8: =SUMIF(terminarz!$D:$D,tabela!N8,terminarz!$G:$G) -> 5 | AP8: =AN8-AO8 -> -3 | AQ8: =RANK(AM8,$AM$3:$AM$18,1)*$AF$1+RANK(AP8,$AP$3:$AP$18,1)*$AI$1+RANK(AN8,$AN$3:$AN$18,1)*$AG$1+RANK(AJ8,$AJ$3:$AJ$18,0)*$AJ$1 -> 1080.11 | AR8: =COUNTIFS(terminarz!$E:$E,N8,terminarz!$G:$G,"<>"&"") -> 2 | AS8: =SUMIF(terminarz!$E:$E,N8,terminarz!$L:$L) -> 6 | AT8: =SUMIF(terminarz!$E:$E,tabela!N8,terminarz!$G:$G) -> 3 | AU8: =SUMIF(terminarz!$E:$E,tabela!N8,terminarz!$H:$H) -> 1 | AV8: =AT8-AU8 -> 2 | AW8: =RANK(AS8,$AS$3:$AS$18,1)*$AF$1+RANK(AV8,$AV$3:$AV$18,1)*$AI$1+RANK(AT8,$AT$3:$AT$18,1)*$AG$1+RANK(AJ8,$AJ$3:$AJ$18,0)*$AJ$1 -> 13180.11
B9: 7 | C9: =VLOOKUP(B9,$K$3:$N$18,4,FALSE) -> CRACOVIA | D9: =VLOOKUP(C9,$N$3:$AI$18,18,FALSE) -> 4 | E9: =VLOOKUP(C9,$N$3:$AI$18,19,FALSE) -> 6 | F9: =VLOOKUP(C9,$N$3:$AI$18,20,FALSE) -> 6 | G9: =VLOOKUP(C9,$N$3:$AI$18,21,FALSE) -> 5 | H9: =VLOOKUP(C9,$N$3:$AI$18,22,FALSE) -> 1 | K9: =RANK(AK9,$AK$3:$AK$18) -> 16 | L9: =RANK(AQ9,$AQ$3:$AQ$18) -> 14 | M9: =RANK(AW9,$AW$3:$AW$18) -> 14 | N9: PIAST GLIWICE | O9: =IFERROR(VLOOKUP($N9&O$2,terminarz!$I:$J,2,FALSE)," ") -> : | P9: =IFERROR(VLOOKUP($N9&P$2,terminarz!$I:$J,2,FALSE)," ") -> : | Q9: =IFERROR(VLOOKUP($N9&Q$2,terminarz!$I:$J,2,FALSE)," ") -> 0 : 1 | R9: =IFERROR(VLOOKUP($N9&R$2,terminarz!$I:$J,2,FALSE)," ") -> : | S9: =IFERROR(VLOOKUP($N9&S$2,terminarz!$I:$J,2,FALSE)," ") -> : | T9: =IFERROR(VLOOKUP($N9&T$2,terminarz!$I:$J,2,FALSE)," ") -> : | U9: =IFERROR(VLOOKUP($N9&U$2,terminarz!$I:$J,2,FALSE)," ") | V9: =IFERROR(VLOOKUP($N9&V$2,terminarz!$I:$J,2,FALSE)," ") -> : | ... AD9: =IFERROR(VLOOKUP($N9&AD$2,terminarz!$I:$J,2,FALSE)," ") -> : | AE9: =COUNTIFS(terminarz!$D:$E,N9,terminarz!$F:$G,"<>"&"") -> 4 | AF9: =SUMIF(terminarz!$D:$E,N9,terminarz!$K:$L) -> 1 | AG9: =SUMIF(terminarz!$D:$E,tabela!N9,terminarz!$F:$G) -> 0 | AH9: =SUMIF(terminarz!$D:$E,tabela!N9,terminarz!$G:$H) -> 4 | AI9: =AG9-AH9 -> -4 | AJ9: 7 | AK9: =RANK(AF9,$AF$3:$AF$18,1)*$AF$1+RANK(AI9,$AI$3:$AI$18,1)*$AI$1+RANK(AG9,$AG$3:$AG$18,1)*$AG$1+RANK(AJ9,$AJ$3:$AJ$18,0)*$AJ$1 -> 1040.1 | AL9: =COUNTIFS(terminarz!$D:$D,N9,terminarz!$F:$F,"<>"&"") -> 2 | AM9: =SUMIF(terminarz!$D:$D,N9,terminarz!$K:$K) -> 0 | AN9: =SUMIF(terminarz!$D:$D,tabela!N9,terminarz!$F:$F) -> 0 | AO9: =SUMIF(terminarz!$D:$D,tabela!N9,terminarz!$G:$G) -> 2 | AP9: =AN9-AO9 -> -2 | AQ9: =RANK(AM9,$AM$3:$AM$18,1)*$AF$1+RANK(AP9,$AP$3:$AP$18,1)*$AI$1+RANK(AN9,$AN$3:$AN$18,1)*$AG$1+RANK(AJ9,$AJ$3:$AJ$18,0)*$AJ$1 -> 1050.1 | AR9: =COUNTIFS(terminarz!$E:$E,N9,terminarz!$G:$G,"<>"&"") -> 2 | AS9: =SUMIF(terminarz!$E:$E,N9,terminarz!$L:$L) -> 1 | AT9: =SUMIF(terminarz!$E:$E,tabela!N9,terminarz!$G:$G) -> 0 | AU9: =SUMIF(terminarz!$E:$E,tabela!N9,terminarz!$H:$H) -> 2 | AV9: =AT9-AU9 -> -2 | AW9: =RANK(AS9,$AS$3:$AS$18,1)*$AF$1+RANK(AV9,$AV$3:$AV$18,1)*$AI$1+RANK(AT9,$AT$3:$AT$18,1)*$AG$1+RANK(AJ9,$AJ$3:$AJ$18,0)*$AJ$1 -> 3020.1
B10: 8 | C10: =VLOOKUP(B10,$K$3:$N$18,4,FALSE) -> LECHIA GDAŃSK | D10: =VLOOKUP(C10,$N$3:$AI$18,18,FALSE) -> 4 | E10: =VLOOKUP(C10,$N$3:$AI$18,19,FALSE) -> 6 | F10: =VLOOKUP(C10,$N$3:$AI$18,20,FALSE) -> 6 | G10: =VLOOKUP(C10,$N$3:$AI$18,21,FALSE) -> 8 | H10: =VLOOKUP(C10,$N$3:$AI$18,22,FALSE) -> -2 | K10: =RANK(AK10,$AK$3:$AK$18) -> 12 | L10: =RANK(AQ10,$AQ$3:$AQ$18) -> 11 | M10: =RANK(AW10,$AW$3:$AW$18) -> 13 | N10: PODBESKIDZIE BIELSKO-BIAŁA | O10: =IFERROR(VLOOKUP($N10&O$2,terminarz!$I:$J,2,FALSE)," ") -> 2 : 2 | P10: =IFERROR(VLOOKUP($N10&P$2,terminarz!$I:$J,2,FALSE)," ") -> : | Q10: =IFERROR(VLOOKUP($N10&Q$2,terminarz!$I:$J,2,FALSE)," ") -> : | R10: =IFERROR(VLOOKUP($N10&R$2,terminarz!$I:$J,2,FALSE)," ") -> : | S10: =IFERROR(VLOOKUP($N10&S$2,terminarz!$I:$J,2,FALSE)," ") -> : | T10: =IFERROR(VLOOKUP($N10&T$2,terminarz!$I:$J,2,FALSE)," ") -> : | U10: =IFERROR(VLOOKUP($N10&U$2,terminarz!$I:$J,2,FALSE)," ") -> : | V10: =IFERROR(VLOOKUP($N10&V$2,terminarz!$I:$J,2,FALSE)," ") | ... AD10: =IFERROR(VLOOKUP($N10&AD$2,terminarz!$I:$J,2,FALSE)," ") -> : | AE10: =COUNTIFS(terminarz!$D:$E,N10,terminarz!$F:$G,"<>"&"") -> 4 | AF10: =SUMIF(terminarz!$D:$E,N10,terminarz!$K:$L) -> 2 | AG10: =SUMIF(terminarz!$D:$E,tabela!N10,terminarz!$F:$G) -> 7 | AH10: =SUMIF(terminarz!$D:$E,tabela!N10,terminarz!$G:$H) -> 12 | AI10: =AG10-AH10 -> -5 | AJ10: 8 | AK10: =RANK(AF10,$AF$3:$AF$18,1)*$AF$1+RANK(AI10,$AI$3:$AI$18,1)*$AI$1+RANK(AG10,$AG$3:$AG$18,1)*$AG$1+RANK(AJ10,$AJ$3:$AJ$18,0)*$AJ$1 -> 3130.09 | AL10: =COUNTIFS(terminarz!$D:$D,N10,terminarz!$F:$F,"<>"&"") -> 2 | AM10: =SUMIF(terminarz!$D:$D,N10,terminarz!$K:$K) -> 1 | AN10: =SUMIF(terminarz!$D:$D,tabela!N10,terminarz!$F:$F) -> 3 | AO10: =SUMIF(terminarz!$D:$D,tabela!N10,terminarz!$G:$G) -> 6 | AP10: =AN10-AO10 -> -3 | AQ10: =RANK(AM10,$AM$3:$AM$18,1)*$AF$1+RANK(AP10,$AP$3:$AP$18,1)*$AI$1+RANK(AN10,$AN$3:$AN$18,1)*$AG$1+RANK(AJ10,$AJ$3:$AJ$18,0)*$AJ$1 -> 5090.09 | AR10: =COUNTIFS(terminarz!$E:$E,N10,terminarz!$G:$G,"<>"&"") -> 2 | AS10: =SUMIF(terminarz!$E:$E,N10,terminarz!$L:$L) -> 1 | AT10: =SUMIF(terminarz!$E:$E,tabela!N10,terminarz!$G:$G) -> 4 | AU10: =SUMIF(terminarz!$E:$E,tabela!N10,terminarz!$H:$H) -> 6 | AV10: =AT10-AU10 -> -2 | AW10: =RANK(AS10,$AS$3:$AS$18,1)*$AF$1+RANK(AV10,$AV$3:$AV$18,1)*$AI$1+RANK(AT10,$AT$3:$AT$18,1)*$AG$1+RANK(AJ10,$AJ$3:$AJ$18,0)*$AJ$1 -> 3120.09
B11: 9 | C11: =VLOOKUP(B11,$K$3:$N$18,4,FALSE) -> LEGIA WARSZAWA | D11: =VLOOKUP(C11,$N$3:$AI$18,18,FALSE) -> 4 | E11: =VLOOKUP(C11,$N$3:$AI$18,19,FALSE) -> 6 | F11: =VLOOKUP(C11,$N$3:$AI$18,20,FALSE) -> 5 | G11: =VLOOKUP(C11,$N$3:$AI$18,21,FALSE) -> 6 | H11: =VLOOKUP(C11,$N$3:$AI$18,22,FALSE) -> -1 | K11: =RANK(AK11,$AK$3:$AK$18) -> 5 | L11: =RANK(AQ11,$AQ$3:$AQ$18) -> 6 | M11: =RANK(AW11,$AW$3:$AW$18) -> 7 | N11: POGOŃ SZCZECIN | O11: =IFERROR(VLOOKUP($N11&O$2,terminarz!$I:$J,2,FALSE)," ") -> : | P11: =IFERROR(VLOOKUP($N11&P$2,terminarz!$I:$J,2,FALSE)," ") -> : | Q11: =IFERROR(VLOOKUP($N11&Q$2,terminarz!$I:$J,2,FALSE)," ") -> : | R11: =IFERROR(VLOOKUP($N11&R$2,terminarz!$I:$J,2,FALSE)," ") -> : | S11: =IFERROR(VLOOKUP($N11&S$2,terminarz!$I:$J,2,FALSE)," ") -> : | T11: =IFERROR(VLOOKUP($N11&T$2,terminarz!$I:$J,2,FALSE)," ") -> : | U11: =IFERROR(VLOOKUP($N11&U$2,terminarz!$I:$J,2,FALSE)," ") -> : | V11: =IFERROR(VLOOKUP($N11&V$2,terminarz!$I:$J,2,FALSE)," ") -> : | ... AD11: =IFERROR(VLOOKUP($N11&AD$2,terminarz!$I:$J,2,FALSE)," ") -> : | AE11: =COUNTIFS(terminarz!$D:$E,N11,terminarz!$F:$G,"<>"&"") -> 4 | AF11: =SUMIF(terminarz!$D:$E,N11,terminarz!$K:$L) -> 7 | AG11: =SUMIF(terminarz!$D:$E,tabela!N11,terminarz!$F:$G) -> 5 | AH11: =SUMIF(terminarz!$D:$E,tabela!N11,terminarz!$G:$H) -> 4 | AI11: =AG11-AH11 -> 1 | AJ11: 9 | AK11: =RANK(AF11,$AF$3:$AF$18,1)*$AF$1+RANK(AI11,$AI$3:$AI$18,1)*$AI$1+RANK(AG11,$AG$3:$AG$18,1)*$AG$1+RANK(AJ11,$AJ$3:$AJ$18,0)*$AJ$1 -> 11140.08 | AL11: =COUNTIFS(terminarz!$D:$D,N11,terminarz!$F:$F,"<>"&"") -> 2 | AM11: =SUMIF(terminarz!$D:$D,N11,terminarz!$K:$K) -> 4 | AN11: =SUMIF(terminarz!$D:$D,tabela!N11,terminarz!$F:$F) -> 3 | AO11: =SUMIF(terminarz!$D:$D,tabela!N11,terminarz!$G:$G) -> 2 | AP11: =AN11-AO11 -> 1 | AQ11: =RANK(AM11,$AM$3:$AM$18,1)*$AF$1+RANK(AP11,$AP$3:$AP$18,1)*$AI$1+RANK(AN11,$AN$3:$AN$18,1)*$AG$1+RANK(AJ11,$AJ$3:$AJ$18,0)*$AJ$1 -> 11180.08 | AR11: =COUNTIFS(terminarz!$E:$E,N11,terminarz!$G:$G,"<>"&"") -> 2 | AS11: =SUMIF(terminarz!$E:$E,N11,terminarz!$L:$L) -> 3 | AT11: =SUMIF(terminarz!$E:$E,tabela!N11,terminarz!$G:$G) -> 2 | AU11: =SUMIF(terminarz!$E:$E,tabela!N11,terminarz!$H:$H) -> 2 | AV11: =AT11-AU11 -> 0 | AW11: =RANK(AS11,$AS$3:$AS$18,1)*$AF$1+RANK(AV11,$AV$3:$AV$18,1)*$AI$1+RANK(AT11,$AT$3:$AT$18,1)*$AG$1+RANK(AJ11,$AJ$3:$AJ$18,0)*$AJ$1 -> 9130.08
B12: 10 | C12: =VLOOKUP(B12,$K$3:$N$18,4,FALSE) -> LECH POZNAŃ | D12: =VLOOKUP(C12,$N$3:$AI$18,18,FALSE) -> 4 | E12: =VLOOKUP(C12,$N$3:$AI$18,19,FALSE) -> 5 | F12: =VLOOKUP(C12,$N$3:$AI$18,20,FALSE) -> 7 | G12: =VLOOKUP(C12,$N$3:$AI$18,21,FALSE) -> 7 | H12: =VLOOKUP(C12,$N$3:$AI$18,22,FALSE) -> 0 | K12: =RANK(AK12,$AK$3:$AK$18) -> 2 | L12: =RANK(AQ12,$AQ$3:$AQ$18) -> 8 | M12: =RANK(AW12,$AW$3:$AW$18) -> 1 | N12: RAKÓW CZĘSTOCHOWA | O12: =IFERROR(VLOOKUP($N12&O$2,terminarz!$I:$J,2,FALSE)," ") -> : | P12: =IFERROR(VLOOKUP($N12&P$2,terminarz!$I:$J,2,FALSE)," ") -> : | Q12: =IFERROR(VLOOKUP($N12&Q$2,terminarz!$I:$J,2,FALSE)," ") -> : | R12: =IFERROR(VLOOKUP($N12&R$2,terminarz!$I:$J,2,FALSE)," ") -> : | S12: =IFERROR(VLOOKUP($N12&S$2,terminarz!$I:$J,2,FALSE)," ") -> : | T12: =IFERROR(VLOOKUP($N12&T$2,terminarz!$I:$J,2,FALSE)," ") -> 1 : 2 | U12: =IFERROR(VLOOKUP($N12&U$2,terminarz!$I:$J,2,FALSE)," ") -> : | V12: =IFERROR(VLOOKUP($N12&V$2,terminarz!$I:$J,2,FALSE)," ") -> : | ... AD12: =IFERROR(VLOOKUP($N12&AD$2,terminarz!$I:$J,2,FALSE)," ") -> 2 : 1 | AE12: =COUNTIFS(terminarz!$D:$E,N12,terminarz!$F:$G,"<>"&"") -> 4 | AF12: =SUMIF(terminarz!$D:$E,N12,terminarz!$K:$L) -> 9 | AG12: =SUMIF(terminarz!$D:$E,tabela!N12,terminarz!$F:$G) -> 10 | AH12: =SUMIF(terminarz!$D:$E,tabela!N12,terminarz!$G:$H) -> 5 | AI12: =AG12-AH12 -> 5 | AJ12: 10 | AK12: =RANK(AF12,$AF$3:$AF$18,1)*$AF$1+RANK(AI12,$AI$3:$AI$18,1)*$AI$1+RANK(AG12,$AG$3:$AG$18,1)*$AG$1+RANK(AJ12,$AJ$3:$AJ$18,0)*$AJ$1 -> 15300.07 | AL12: =COUNTIFS(terminarz!$D:$D,N12,terminarz!$F:$F,"<>"&"") -> 2 | AM12: =SUMIF(terminarz!$D:$D,N12,terminarz!$K:$K) -> 3 | AN12: =SUMIF(terminarz!$D:$D,tabela!N12,terminarz!$F:$F) -> 3 | AO12: =SUMIF(terminarz!$D:$D,tabela!N12,terminarz!$G:$G) -> 3 | AP12: =AN12-AO12 -> 0 | AQ12: =RANK(AM12,$AM$3:$AM$18,1)*$AF$1+RANK(AP12,$AP$3:$AP$18,1)*$AI$1+RANK(AN12,$AN$3:$AN$18,1)*$AG$1+RANK(AJ12,$AJ$3:$AJ$18,0)*$AJ$1 -> 9150.07 | AR12: =COUNTIFS(terminarz!$E:$E,N12,terminarz!$G:$G,"<>"&"") -> 2 | AS12: =SUMIF(terminarz!$E:$E,N12,terminarz!$L:$L) -> 6 | AT12: =SUMIF(terminarz!$E:$E,tabela!N12,terminarz!$G:$G) -> 7 | AU12: =SUMIF(terminarz!$E:$E,tabela!N12,terminarz!$H:$H) -> 2 | AV12: =AT12-AU12 -> 5 | AW12: =RANK(AS12,$AS$3:$AS$18,1)*$AF$1+RANK(AV12,$AV$3:$AV$18,1)*$AI$1+RANK(AT12,$AT$3:$AT$18,1)*$AG$1+RANK(AJ12,$AJ$3:$AJ$18,0)*$AJ$1 -> 13320.07
B13: 11 | C13: =VLOOKUP(B13,$K$3:$N$18,4,FALSE) -> WISŁA PŁOCK | D13: =VLOOKUP(C13,$N$3:$AI$18,18,FALSE) -> 4 | E13: =VLOOKUP(C13,$N$3:$AI$18,19,FALSE) -> 5 | F13: =VLOOKUP(C13,$N$3:$AI$18,20,FALSE) -> 6 | G13: =VLOOKUP(C13,$N$3:$AI$18,21,FALSE) -> 4 | H13: =VLOOKUP(C13,$N$3:$AI$18,22,FALSE) -> 2 | K13: =RANK(AK13,$AK$3:$AK$18) -> 4 | L13: =RANK(AQ13,$AQ$3:$AQ$18) -> 3 | M13: =RANK(AW13,$AW$3:$AW$18) -> 6 | N13: ŚLĄSK WROCŁAW | O13: =IFERROR(VLOOKUP($N13&O$2,terminarz!$I:$J,2,FALSE)," ") -> : | P13: =IFERROR(VLOOKUP($N13&P$2,terminarz!$I:$J,2,FALSE)," ") -> : | Q13: =IFERROR(VLOOKUP($N13&Q$2,terminarz!$I:$J,2,FALSE)," ") -> : | R13: =IFERROR(VLOOKUP($N13&R$2,terminarz!$I:$J,2,FALSE)," ") -> 3 : 3 | S13: =IFERROR(VLOOKUP($N13&S$2,terminarz!$I:$J,2,FALSE)," ") -> : | T13: =IFERROR(VLOOKUP($N13&T$2,terminarz!$I:$J,2,FALSE)," ") -> : | U13: =IFERROR(VLOOKUP($N13&U$2,terminarz!$I:$J,2,FALSE)," ") -> 2 : 0 | V13: =IFERROR(VLOOKUP($N13&V$2,terminarz!$I:$J,2,FALSE)," ") -> : | ... AD13: =IFERROR(VLOOKUP($N13&AD$2,terminarz!$I:$J,2,FALSE)," ") -> : | AE13: =COUNTIFS(terminarz!$D:$E,N13,terminarz!$F:$G,"<>"&"") -> 4 | AF13: =SUMIF(terminarz!$D:$E,N13,terminarz!$K:$L) -> 7 | AG13: =SUMIF(terminarz!$D:$E,tabela!N13,terminarz!$F:$G) -> 8 | AH13: =SUMIF(terminarz!$D:$E,tabela!N13,terminarz!$G:$H) -> 5 | AI13: =AG13-AH13 -> 3 | AJ13: 11 | AK13: =RANK(AF13,$AF$3:$AF$18,1)*$AF$1+RANK(AI13,$AI$3:$AI$18,1)*$AI$1+RANK(AG13,$AG$3:$AG$18,1)*$AG$1+RANK(AJ13,$AJ$3:$AJ$18,0)*$AJ$1 -> 11280.06 | AL13: =COUNTIFS(terminarz!$D:$D,N13,terminarz!$F:$F,"<>"&"") -> 2 | AM13: =SUMIF(terminarz!$D:$D,N13,terminarz!$K:$K) -> 4 | AN13: =SUMIF(terminarz!$D:$D,tabela!N13,terminarz!$F:$F) -> 5 | AO13: =SUMIF(terminarz!$D:$D,tabela!N13,terminarz!$G:$G) -> 3 | AP13: =AN13-AO13 -> 2 | AQ13: =RANK(AM13,$AM$3:$AM$18,1)*$AF$1+RANK(AP13,$AP$3:$AP$18,1)*$AI$1+RANK(AN13,$AN$3:$AN$18,1)*$AG$1+RANK(AJ13,$AJ$3:$AJ$18,0)*$AJ$1 -> 11280.06 | AR13: =COUNTIFS(terminarz!$E:$E,N13,terminarz!$G:$G,"<>"&"") -> 2 | AS13: =SUMIF(terminarz!$E:$E,N13,terminarz!$L:$L) -> 3 | AT13: =SUMIF(terminarz!$E:$E,tabela!N13,terminarz!$G:$G) -> 3 | AU13: =SUMIF(terminarz!$E:$E,tabela!N13,terminarz!$H:$H) -> 2 | AV13: =AT13-AU13 -> 1 | AW13: =RANK(AS13,$AS$3:$AS$18,1)*$AF$1+RANK(AV13,$AV$3:$AV$18,1)*$AI$1+RANK(AT13,$AT$3:$AT$18,1)*$AG$1+RANK(AJ13,$AJ$3:$AJ$18,0)*$AJ$1 -> 9170.06
B14: 12 | C14: =VLOOKUP(B14,$K$3:$N$18,4,FALSE) -> PODBESKIDZIE BIELSKO-BIAŁA | D14: =VLOOKUP(C14,$N$3:$AI$18,18,FALSE) -> 4 | E14: =VLOOKUP(C14,$N$3:$AI$18,19,FALSE) -> 2 | F14: =VLOOKUP(C14,$N$3:$AI$18,20,FALSE) -> 7 | G14: =VLOOKUP(C14,$N$3:$AI$18,21,FALSE) -> 12 | H14: =VLOOKUP(C14,$N$3:$AI$18,22,FALSE) -> -5 | K14: =RANK(AK14,$AK$3:$AK$18) -> 13 | L14: =RANK(AQ14,$AQ$3:$AQ$18) -> 15 | M14: =RANK(AW14,$AW$3:$AW$18) -> 11 | N14: STAL MIELEC | O14: =IFERROR(VLOOKUP($N14&O$2,terminarz!$I:$J,2,FALSE)," ") -> : | P14: =IFERROR(VLOOKUP($N14&P$2,terminarz!$I:$J,2,FALSE)," ") -> 0 : 2 | Q14: =IFERROR(VLOOKUP($N14&Q$2,terminarz!$I:$J,2,FALSE)," ") -> : | R14: =IFERROR(VLOOKUP($N14&R$2,terminarz!$I:$J,2,FALSE)," ") -> : | S14: =IFERROR(VLOOKUP($N14&S$2,terminarz!$I:$J,2,FALSE)," ") -> : | T14: =IFERROR(VLOOKUP($N14&T$2,terminarz!$I:$J,2,FALSE)," ") -> : | U14: =IFERROR(VLOOKUP($N14&U$2,terminarz!$I:$J,2,FALSE)," ") -> : | V14: =IFERROR(VLOOKUP($N14&V$2,terminarz!$I:$J,2,FALSE)," ") -> : | ... AD14: =IFERROR(VLOOKUP($N14&AD$2,terminarz!$I:$J,2,FALSE)," ") -> : | AE14: =COUNTIFS(terminarz!$D:$E,N14,terminarz!$F:$G,"<>"&"") -> 4 | AF14: =SUMIF(terminarz!$D:$E,N14,terminarz!$K:$L) -> 2 | AG14: =SUMIF(terminarz!$D:$E,tabela!N14,terminarz!$F:$G) -> 4 | AH14: =SUMIF(terminarz!$D:$E,tabela!N14,terminarz!$G:$H) -> 8 | AI14: =AG14-AH14 -> -4 | AJ14: 12 | AK14: =RANK(AF14,$AF$3:$AF$18,1)*$AF$1+RANK(AI14,$AI$3:$AI$18,1)*$AI$1+RANK(AG14,$AG$3:$AG$18,1)*$AG$1+RANK(AJ14,$AJ$3:$AJ$18,0)*$AJ$1 -> 3060.05 | AL14: =COUNTIFS(terminarz!$D:$D,N14,terminarz!$F:$F,"<>"&"") -> 1 | AM14: =SUMIF(terminarz!$D:$D,N14,terminarz!$K:$K) -> 0 | AN14: =SUMIF(terminarz!$D:$D,tabela!N14,terminarz!$F:$F) -> 0 | AO14: =SUMIF(terminarz!$D:$D,tabela!N14,terminarz!$G:$G) -> 2 | AP14: =AN14-AO14 -> -2 | AQ14: =RANK(AM14,$AM$3:$AM$18,1)*$AF$1+RANK(AP14,$AP$3:$AP$18,1)*$AI$1+RANK(AN14,$AN$3:$AN$18,1)*$AG$1+RANK(AJ14,$AJ$3:$AJ$18,0)*$AJ$1 -> 1050.05 | AR14: =COUNTIFS(terminarz!$E:$E,N14,terminarz!$G:$G,"<>"&"") -> 3 | AS14: =SUMIF(terminarz!$E:$E,N14,terminarz!$L:$L) -> 2 | AT14: =SUMIF(terminarz!$E:$E,tabela!N14,terminarz!$G:$G) -> 4 | AU14: =SUMIF(terminarz!$E:$E,tabela!N14,terminarz!$H:$H) -> 6 | AV14: =AT14-AU14 -> -2 | AW14: =RANK(AS14,$AS$3:$AS$18,1)*$AF$1+RANK(AV14,$AV$3:$AV$18,1)*$AI$1+RANK(AT14,$AT$3:$AT$18,1)*$AG$1+RANK(AJ14,$AJ$3:$AJ$18,0)*$AJ$1 -> 6120.05
... B18: 16 | C18: =VLOOKUP(B18,$K$3:$N$18,4,FALSE) -> PIAST GLIWICE | D18: =VLOOKUP(C18,$N$3:$AI$18,18,FALSE) -> 4 | E18: =VLOOKUP(C18,$N$3:$AI$18,19,FALSE) -> 1 | F18: =VLOOKUP(C18,$N$3:$AI$18,20,FALSE) -> 0 | G18: =VLOOKUP(C18,$N$3:$AI$18,21,FALSE) -> 4 | H18: =VLOOKUP(C18,$N$3:$AI$18,22,FALSE) -> -4 | K18: =RANK(AK18,$AK$3:$AK$18) -> 6 | L18: =RANK(AQ18,$AQ$3:$AQ$18) -> 1 | M18: =RANK(AW18,$AW$3:$AW$18) -> 15 | N18: ZAGŁĘBIE LUBIN | O18: =IFERROR(VLOOKUP($N18&O$2,terminarz!$I:$J,2,FALSE)," ") -> 1 : 1 | P18: =IFERROR(VLOOKUP($N18&P$2,terminarz!$I:$J,2,FALSE)," ") -> : | Q18: =IFERROR(VLOOKUP($N18&Q$2,terminarz!$I:$J,2,FALSE)," ") -> : | R18: =IFERROR(VLOOKUP($N18&R$2,terminarz!$I:$J,2,FALSE)," ") -> 2 : 1 | S18: =IFERROR(VLOOKUP($N18&S$2,terminarz!$I:$J,2,FALSE)," ") -> : | T18: =IFERROR(VLOOKUP($N18&T$2,terminarz!$I:$J,2,FALSE)," ") -> : | U18: =IFERROR(VLOOKUP($N18&U$2,terminarz!$I:$J,2,FALSE)," ") -> : | V18: =IFERROR(VLOOKUP($N18&V$2,terminarz!$I:$J,2,FALSE)," ") -> : | ... AD18: =IFERROR(VLOOKUP($N18&AD$2,terminarz!$I:$J,2,FALSE)," ") | AE18: =COUNTIFS(terminarz!$D:$E,N18,terminarz!$F:$G,"<>"&"") -> 4 | AF18: =SUMIF(terminarz!$D:$E,N18,terminarz!$K:$L) -> 7 | AG18: =SUMIF(terminarz!$D:$E,tabela!N18,terminarz!$F:$G) -> 5 | AH18: =SUMIF(terminarz!$D:$E,tabela!N18,terminarz!$G:$H) -> 4 | AI18: =AG18-AH18 -> 1 | AJ18: 16 | AK18: =RANK(AF18,$AF$3:$AF$18,1)*$AF$1+RANK(AI18,$AI$3:$AI$18,1)*$AI$1+RANK(AG18,$AG$3:$AG$18,1)*$AG$1+RANK(AJ18,$AJ$3:$AJ$18,0)*$AJ$1 -> 11140.01 | AL18: =COUNTIFS(terminarz!$D:$D,N18,terminarz!$F:$F,"<>"&"") -> 3 | AM18: =SUMIF(terminarz!$D:$D,N18,terminarz!$K:$K) -> 7 | AN18: =SUMIF(terminarz!$D:$D,tabela!N18,terminarz!$F:$F) -> 4 | AO18: =SUMIF(terminarz!$D:$D,tabela!N18,terminarz!$G:$G) -> 2 | AP18: =AN18-AO18 -> 2 | AQ18: =RANK(AM18,$AM$3:$AM$18,1)*$AF$1+RANK(AP18,$AP$3:$AP$18,1)*$AI$1+RANK(AN18,$AN$3:$AN$18,1)*$AG$1+RANK(AJ18,$AJ$3:$AJ$18,0)*$AJ$1 -> 16270.01 | AR18: =COUNTIFS(terminarz!$E:$E,N18,terminarz!$G:$G,"<>"&"") -> 1 | AS18: =SUMIF(terminarz!$E:$E,N18,terminarz!$L:$L) -> 0 | AT18: =SUMIF(terminarz!$E:$E,tabela!N18,terminarz!$G:$G) -> 1 | AU18: =SUMIF(terminarz!$E:$E,tabela!N18,terminarz!$H:$H) -> 2 | AV18: =AT18-AU18 -> -1 | AW18: =RANK(AS18,$AS$3:$AS$18,1)*$AF$1+RANK(AV18,$AV$3:$AV$18,1)*$AI$1+RANK(AT18,$AT$3:$AT$18,1)*$AG$1+RANK(AJ18,$AJ$3:$AJ$18,0)*$AJ$1 -> 1090.01
B20: Tabela uwzględniające mecze W DOMU | J20: Tabela uwzględniające mecze NA WYJEŹDZIE
B21: pozycja | C21: drużyna | D21: mecze | E21: punkty | F21: bramki strzelone | G21: bramki stracone | H21: różnica bramek | J21: pozycja | N21: drużyna | O21: mecze | P21: punkty | Q21: bramki strzelone | R21: bramki stracone | S21: różnica bramek
B22: 1 | C22: =VLOOKUP(B22,$L$3:$N$18,3,FALSE) -> ZAGŁĘBIE LUBIN | D22: =VLOOKUP(C22,dummy,25,FALSE) -> 3 | E22: =VLOOKUP(C22,dummy,26,FALSE) -> 7 | F22: =VLOOKUP(C22,dummy,27,FALSE) -> 4 | G22: =VLOOKUP(C22,dummy,28,FALSE) -> 2 | H22: =VLOOKUP(C22,dummy,29,FALSE) -> 2 | J22: 1 | N22: =VLOOKUP(J22,$M$3:$N$18,2,FALSE) -> RAKÓW CZĘSTOCHOWA | O22: =VLOOKUP(N22,dummy,31,FALSE) -> 2 | P22: =VLOOKUP(N22,dummy,32,FALSE) -> 6 | Q22: =VLOOKUP(N22,dummy,33,FALSE) -> 7 | R22: =VLOOKUP(N22,dummy,34,FALSE) -> 2 | S22: =VLOOKUP(N22,dummy,35,FALSE) -> 5
B23: 2 | C23: =VLOOKUP(B23,$L$3:$N$18,3,FALSE) -> GÓRNIK ZABRZE | D23: =VLOOKUP(C23,dummy,25,FALSE) -> 2 | E23: =VLOOKUP(C23,dummy,26,FALSE) -> 6 | F23: =VLOOKUP(C23,dummy,27,FALSE) -> 7 | G23: =VLOOKUP(C23,dummy,28,FALSE) -> 2 | H23: =VLOOKUP(C23,dummy,29,FALSE) -> 5 | J23: 2 | N23: =VLOOKUP(J23,$M$3:$N$18,2,FALSE) -> GÓRNIK ZABRZE | O23: =VLOOKUP(N23,dummy,31,FALSE) -> 2 | P23: =VLOOKUP(N23,dummy,32,FALSE) -> 6 | Q23: =VLOOKUP(N23,dummy,33,FALSE) -> 5 | R23: =VLOOKUP(N23,dummy,34,FALSE) -> 1 | S23: =VLOOKUP(N23,dummy,35,FALSE) -> 4
B24: 3 | C24: =VLOOKUP(B24,$L$3:$N$18,3,FALSE) -> ŚLĄSK WROCŁAW | D24: =VLOOKUP(C24,dummy,25,FALSE) -> 2 | E24: =VLOOKUP(C24,dummy,26,FALSE) -> 4 | F24: =VLOOKUP(C24,dummy,27,FALSE) -> 5 | G24: =VLOOKUP(C24,dummy,28,FALSE) -> 3 | H24: =VLOOKUP(C24,dummy,29,FALSE) -> 2 | J24: 3 | N24: =VLOOKUP(J24,$M$3:$N$18,2,FALSE) -> JAGIELLONIA BIAŁYSTOK | O24: =VLOOKUP(N24,dummy,31,FALSE) -> 2 | P24: =VLOOKUP(N24,dummy,32,FALSE) -> 6 | Q24: =VLOOKUP(N24,dummy,33,FALSE) -> 3 | R24: =VLOOKUP(N24,dummy,34,FALSE) -> 1 | S24: =VLOOKUP(N24,dummy,35,FALSE) -> 2
B25: 4 | C25: =VLOOKUP(B25,$L$3:$N$18,3,FALSE) -> CRACOVIA | D25: =VLOOKUP(C25,dummy,25,FALSE) -> 2 | E25: =VLOOKUP(C25,dummy,26,FALSE) -> 4 | F25: =VLOOKUP(C25,dummy,27,FALSE) -> 3 | G25: =VLOOKUP(C25,dummy,28,FALSE) -> 2 | H25: =VLOOKUP(C25,dummy,29,FALSE) -> 1 | J25: 4 | N25: =VLOOKUP(J25,$M$3:$N$18,2,FALSE) -> LEGIA WARSZAWA | O25: =VLOOKUP(N25,dummy,31,FALSE) -> 2 | P25: =VLOOKUP(N25,dummy,32,FALSE) -> 6 | Q25: =VLOOKUP(N25,dummy,33,FALSE) -> 3 | R25: =VLOOKUP(N25,dummy,34,FALSE) -> 1 | S25: =VLOOKUP(N25,dummy,35,FALSE) -> 2
B26: 5 | C26: =VLOOKUP(B26,$L$3:$N$18,3,FALSE) -> LECH POZNAŃ | D26: =VLOOKUP(C26,dummy,25,FALSE) -> 2 | E26: =VLOOKUP(C26,dummy,26,FALSE) -> 4 | F26: =VLOOKUP(C26,dummy,27,FALSE) -> 3 | G26: =VLOOKUP(C26,dummy,28,FALSE) -> 2 | H26: =VLOOKUP(C26,dummy,29,FALSE) -> 1 | J26: 5 | N26: =VLOOKUP(J26,$M$3:$N$18,2,FALSE) -> WISŁA PŁOCK | O26: =VLOOKUP(N26,dummy,31,FALSE) -> 2 | P26: =VLOOKUP(N26,dummy,32,FALSE) -> 4 | Q26: =VLOOKUP(N26,dummy,33,FALSE) -> 5 | R26: =VLOOKUP(N26,dummy,34,FALSE) -> 2 | S26: =VLOOKUP(N26,dummy,35,FALSE) -> 3
B27: 6 | C27: =VLOOKUP(B27,$L$3:$N$18,3,FALSE) -> POGOŃ SZCZECIN | D27: =VLOOKUP(C27,dummy,25,FALSE) -> 2 | E27: =VLOOKUP(C27,dummy,26,FALSE) -> 4 | F27: =VLOOKUP(C27,dummy,27,FALSE) -> 3 | G27: =VLOOKUP(C27,dummy,28,FALSE) -> 2 | H27: =VLOOKUP(C27,dummy,29,FALSE) -> 1 | J27: 6 | N27: =VLOOKUP(J27,$M$3:$N$18,2,FALSE) -> ŚLĄSK WROCŁAW | O27: =VLOOKUP(N27,dummy,31,FALSE) -> 2 | P27: =VLOOKUP(N27,dummy,32,FALSE) -> 3 | Q27: =VLOOKUP(N27,dummy,33,FALSE) -> 3 | R27: =VLOOKUP(N27,dummy,34,FALSE) -> 2 | S27: =VLOOKUP(N27,dummy,35,FALSE) -> 1
B28: 7 | C28: =VLOOKUP(B28,$L$3:$N$18,3,FALSE) -> LECHIA GDAŃSK | D28: =VLOOKUP(C28,dummy,25,FALSE) -> 2 | E28: =VLOOKUP(C28,dummy,26,FALSE) -> 3 | F28: =VLOOKUP(C28,dummy,27,FALSE) -> 5 | G28: =VLOOKUP(C28,dummy,28,FALSE) -> 5 | H28: =VLOOKUP(C28,dummy,29,FALSE) -> 0 | J28: 7 | N28: =VLOOKUP(J28,$M$3:$N$18,2,FALSE) -> POGOŃ SZCZECIN | O28: =VLOOKUP(N28,dummy,31,FALSE) -> 2 | P28: =VLOOKUP(N28,dummy,32,FALSE) -> 3 | Q28: =VLOOKUP(N28,dummy,33,FALSE) -> 2 | R28: =VLOOKUP(N28,dummy,34,FALSE) -> 2 | S28: =VLOOKUP(N28,dummy,35,FALSE) -> 0
B29: 8 | C29: =VLOOKUP(B29,$L$3:$N$18,3,FALSE) -> RAKÓW CZĘSTOCHOWA | D29: =VLOOKUP(C29,dummy,25,FALSE) -> 2 | E29: =VLOOKUP(C29,dummy,26,FALSE) -> 3 | F29: =VLOOKUP(C29,dummy,27,FALSE) -> 3 | G29: =VLOOKUP(C29,dummy,28,FALSE) -> 3 | H29: =VLOOKUP(C29,dummy,29,FALSE) -> 0 | J29: 8 | N29: =VLOOKUP(J29,$M$3:$N$18,2,FALSE) -> LECHIA GDAŃSK | O29: =VLOOKUP(N29,dummy,31,FALSE) -> 2 | P29: =VLOOKUP(N29,dummy,32,FALSE) -> 3 | Q29: =VLOOKUP(N29,dummy,33,FALSE) -> 1 | R29: =VLOOKUP(N29,dummy,34,FALSE) -> 3 | S29: =VLOOKUP(N29,dummy,35,FALSE) -> -2
B30: 9 | C30: =VLOOKUP(B30,$L$3:$N$18,3,FALSE) -> JAGIELLONIA BIAŁYSTOK | D30: =VLOOKUP(C30,dummy,25,FALSE) -> 2 | E30: =VLOOKUP(C30,dummy,26,FALSE) -> 2 | F30: =VLOOKUP(C30,dummy,27,FALSE) -> 3 | G30: =VLOOKUP(C30,dummy,28,FALSE) -> 3 | H30: =VLOOKUP(C30,dummy,29,FALSE) -> 0 | J30: 9 | N30: =VLOOKUP(J30,$M$3:$N$18,2,FALSE) -> CRACOVIA | O30: =VLOOKUP(N30,dummy,31,FALSE) -> 2 | P30: =VLOOKUP(N30,dummy,32,FALSE) -> 2 | Q30: =VLOOKUP(N30,dummy,33,FALSE) -> 3 | R30: =VLOOKUP(N30,dummy,34,FALSE) -> 3 | S30: =VLOOKUP(N30,dummy,35,FALSE) -> 0
B31: 10 | C31: =VLOOKUP(B31,$L$3:$N$18,3,FALSE) -> WISŁA PŁOCK | D31: =VLOOKUP(C31,dummy,25,FALSE) -> 2 | E31: =VLOOKUP(C31,dummy,26,FALSE) -> 1 | F31: =VLOOKUP(C31,dummy,27,FALSE) -> 1 | G31: =VLOOKUP(C31,dummy,28,FALSE) -> 2 | H31: =VLOOKUP(C31,dummy,29,FALSE) -> -1 | J31: 10 | N31: =VLOOKUP(J31,$M$3:$N$18,2,FALSE) -> WISŁA KRAKÓW | O31: =VLOOKUP(N31,dummy,31,FALSE) -> 2 | P31: =VLOOKUP(N31,dummy,32,FALSE) -> 2 | Q31: =VLOOKUP(N31,dummy,33,FALSE) -> 3 | R31: =VLOOKUP(N31,dummy,34,FALSE) -> 3 | S31: =VLOOKUP(N31,dummy,35,FALSE) -> 0
B32: 11 | C32: =VLOOKUP(B32,$L$3:$N$18,3,FALSE) -> PODBESKIDZIE BIELSKO-BIAŁA | D32: =VLOOKUP(C32,dummy,25,FALSE) -> 2 | E32: =VLOOKUP(C32,dummy,26,FALSE) -> 1 | F32: =VLOOKUP(C32,dummy,27,FALSE) -> 3 | G32: =VLOOKUP(C32,dummy,28,FALSE) -> 6 | H32: =VLOOKUP(C32,dummy,29,FALSE) -> -3 | J32: 11 | N32: =VLOOKUP(J32,$M$3:$N$18,2,FALSE) -> STAL MIELEC | O32: =VLOOKUP(N32,dummy,31,FALSE) -> 3 | P32: =VLOOKUP(N32,dummy,32,FALSE) -> 2 | Q32: =VLOOKUP(N32,dummy,33,FALSE) -> 4 | R32: =VLOOKUP(N32,dummy,34,FALSE) -> 6 | S32: =VLOOKUP(N32,dummy,35,FALSE) -> -2
B33: 12 | C33: =VLOOKUP(B33,$L$3:$N$18,3,FALSE) -> WARTA POZNAŃ | D33: =VLOOKUP(C33,dummy,25,FALSE) -> 2 | E33: =VLOOKUP(C33,dummy,26,FALSE) -> 1 | F33: =VLOOKUP(C33,dummy,27,FALSE) -> 0 | G33: =VLOOKUP(C33,dummy,28,FALSE) -> 1 | H33: =VLOOKUP(C33,dummy,29,FALSE) -> -1 | J33: 12 | N33: =VLOOKUP(J33,$M$3:$N$18,2,FALSE) -> LECH POZNAŃ | O33: =VLOOKUP(N33,dummy,31,FALSE) -> 2 | P33: =VLOOKUP(N33,dummy,32,FALSE) -> 1 | Q33: =VLOOKUP(N33,dummy,33,FALSE) -> 4 | R33: =VLOOKUP(N33,dummy,34,FALSE) -> 5 | S33: =VLOOKUP(N33,dummy,35,FALSE) -> -1
... B36: 15 | C36: =VLOOKUP(B36,$L$3:$N$18,3,FALSE) -> STAL MIELEC | D36: =VLOOKUP(C36,dummy,25,FALSE) -> 1 | E36: =VLOOKUP(C36,dummy,26,FALSE) -> 0 | F36: =VLOOKUP(C36,dummy,27,FALSE) -> 0 | G36: =VLOOKUP(C36,dummy,28,FALSE) -> 2 | H36: =VLOOKUP(C36,dummy,29,FALSE) -> -2 | J36: 15 | N36: =VLOOKUP(J36,$M$3:$N$18,2,FALSE) -> ZAGŁĘBIE LUBIN | O36: =VLOOKUP(N36,dummy,31,FALSE) -> 1 | P36: =VLOOKUP(N36,dummy,32,FALSE) -> 0 | Q36: =VLOOKUP(N36,dummy,33,FALSE) -> 1 | R36: =VLOOKUP(N36,dummy,34,FALSE) -> 2 | S36: =VLOOKUP(N36,dummy,35,FALSE) -> -1
B37: 16 | C37: =VLOOKUP(B37,$L$3:$N$18,3,FALSE) -> WISŁA KRAKÓW | D37: =VLOOKUP(C37,dummy,25,FALSE) -> 2 | E37: =VLOOKUP(C37,dummy,26,FALSE) -> 0 | F37: =VLOOKUP(C37,dummy,27,FALSE) -> 1 | G37: =VLOOKUP(C37,dummy,28,FALSE) -> 6 | H37: =VLOOKUP(C37,dummy,29,FALSE) -> -5 | J37: 16 | N37: =VLOOKUP(J37,$M$3:$N$18,2,FALSE) -> WARTA POZNAŃ | O37: =VLOOKUP(N37,dummy,31,FALSE) -> 2 | P37: =VLOOKUP(N37,dummy,32,FALSE) -> 0 | Q37: =VLOOKUP(N37,dummy,33,FALSE) -> 0 | R37: =VLOOKUP(N37,dummy,34,FALSE) -> 2 | S37: =VLOOKUP(N37,dummy,35,FALSE) -> -2 | AD37: ="© "&YEAR(TODAY())&" EEXCEL LTD. All rights reserved" -> © 2020 EEXCEL LTD. All rights reserved

Sheet SET
B2: https://www.flashscore.com/football/poland/ekstraklasa/
